BEGIN:VCALENDAR
VERSION:2.0
PRODID:-//Run &amp; Race Team - ECPv6.15.20//NONSGML v1.0//EN
CALSCALE:GREGORIAN
METHOD:PUBLISH
X-WR-CALNAME:Run &amp; Race Team
X-ORIGINAL-URL:https://run-race-team.de
X-WR-CALDESC:Veranstaltungen für Run &amp; Race Team
REFRESH-INTERVAL;VALUE=DURATION:PT1H
X-Robots-Tag:noindex
X-PUBLISHED-TTL:PT1H
BEGIN:VTIMEZONE
TZID:UTC
BEGIN:STANDARD
TZOFFSETFROM:+0000
TZOFFSETTO:+0000
TZNAME:UTC
DTSTART:20250101T000000
END:STANDARD
END:VTIMEZONE
BEGIN:VEVENT
DTSTART;VALUE=DATE:20260422
DTEND;VALUE=DATE:20260426
DTSTAMP:20260420T035926
CREATED:20260212T090641Z
LAST-MODIFIED:20260212T101909Z
UID:4695-1776816000-1777161599@run-race-team.de
SUMMARY:BELGRADE BANJALUKA
DESCRIPTION:22.-25.04.2026
URL:https://run-race-team.de/event/belgrade-banjaluka/
END:VEVENT
BEGIN:VEVENT
DTSTART;VALUE=DATE:20260426
DTEND;VALUE=DATE:20260427
DTSTAMP:20260420T035926
CREATED:20260224T074558Z
LAST-MODIFIED:20260224T074558Z
UID:4759-1777161600-1777247999@run-race-team.de
SUMMARY:Kirschblütenrennen in Wels
DESCRIPTION:26.04.2026
URL:https://run-race-team.de/event/kirschbluetenrennen-in-wels/
END:VEVENT
BEGIN:VEVENT
DTSTART;VALUE=DATE:20260426
DTEND;VALUE=DATE:20260427
DTSTAMP:20260420T035926
CREATED:20260224T074652Z
LAST-MODIFIED:20260224T074652Z
UID:4761-1777161600-1777247999@run-race-team.de
SUMMARY:Patrichinger Rundstreckenrennen
DESCRIPTION:26.04.2026
URL:https://run-race-team.de/event/patrichinger-rundstreckenrennen/
END:VEVENT
BEGIN:VEVENT
DTSTART;VALUE=DATE:20260501
DTEND;VALUE=DATE:20260502
DTSTAMP:20260420T035926
CREATED:20260212T102051Z
LAST-MODIFIED:20260212T102111Z
UID:4698-1777593600-1777679999@run-race-team.de
SUMMARY:GP VORARLBERG
DESCRIPTION:01.05.2026
URL:https://run-race-team.de/event/gp-vorarlberg/
END:VEVENT
BEGIN:VEVENT
DTSTART;VALUE=DATE:20260507
DTEND;VALUE=DATE:20260508
DTSTAMP:20260420T035926
CREATED:20260224T074818Z
LAST-MODIFIED:20260224T074818Z
UID:4763-1778112000-1778198399@run-race-team.de
SUMMARY:Wilkowice Slawomir Frejowski / Polen
DESCRIPTION:07.05.2026
URL:https://run-race-team.de/event/wilkowice-slawomir-frejowski-polen/
END:VEVENT
BEGIN:VEVENT
DTSTART;VALUE=DATE:20260508
DTEND;VALUE=DATE:20260509
DTSTAMP:20260420T035926
CREATED:20260224T074845Z
LAST-MODIFIED:20260224T074845Z
UID:4765-1778198400-1778284799@run-race-team.de
SUMMARY:Pszczyna/Polen
DESCRIPTION:08.05.2026
URL:https://run-race-team.de/event/pszczyna-polen/
END:VEVENT
BEGIN:VEVENT
DTSTART;VALUE=DATE:20260509
DTEND;VALUE=DATE:20260510
DTSTAMP:20260420T035926
CREATED:20260224T074913Z
LAST-MODIFIED:20260224T074913Z
UID:4767-1778284800-1778371199@run-race-team.de
SUMMARY:Bielsko-Biala Asow Beskid Race
DESCRIPTION:09.05.2026
URL:https://run-race-team.de/event/bielsko-biala-asow-beskid-race/
END:VEVENT
BEGIN:VEVENT
DTSTART;VALUE=DATE:20260510
DTEND;VALUE=DATE:20260511
DTSTAMP:20260420T035926
CREATED:20260224T074956Z
LAST-MODIFIED:20260224T074956Z
UID:4769-1778371200-1778457599@run-race-team.de
SUMMARY:Siewierz-Psary Asow Beskid
DESCRIPTION:10.05.2026
URL:https://run-race-team.de/event/siewierz-psary-asow-beskid/
END:VEVENT
BEGIN:VEVENT
DTSTART;VALUE=DATE:20260517
DTEND;VALUE=DATE:20260518
DTSTAMP:20260420T035926
CREATED:20260212T102153Z
LAST-MODIFIED:20260212T102153Z
UID:4701-1778976000-1779062399@run-race-team.de
SUMMARY:RUND UM KÖLN
DESCRIPTION:17.05.2026
URL:https://run-race-team.de/event/rund-um-koeln/
END:VEVENT
BEGIN:VEVENT
DTSTART;VALUE=DATE:20260604
DTEND;VALUE=DATE:20260608
DTSTAMP:20260420T035926
CREATED:20260224T075046Z
LAST-MODIFIED:20260224T075058Z
UID:4771-1780531200-1780876799@run-race-team.de
SUMMARY:Oberösterreich Rundfahrt
DESCRIPTION:04.-07.06.2026
URL:https://run-race-team.de/event/oberoesterreich-rundfahrt/
END:VEVENT
BEGIN:VEVENT
DTSTART;VALUE=DATE:20260614
DTEND;VALUE=DATE:20260615
DTSTAMP:20260420T035926
CREATED:20260212T102244Z
LAST-MODIFIED:20260212T102244Z
UID:4704-1781395200-1781481599@run-race-team.de
SUMMARY:GP GIPPINGEN
DESCRIPTION:14.06.2026
URL:https://run-race-team.de/event/gp-gippingen/
END:VEVENT
END:VCALENDAR